Workbook
Name TiempoOpciones: Listas!$A$2:$A$16

Sheet Meta
A1: Organizador de Meta → Microacciones (4–5 semanas)
B2: Lanzar recurso gratuito estratégico para captar leads calificados
B3: Recurso terminado + landing publicada + link activo
A4: Meta grande | B4: Lanzar recurso gratis: Planner de microacciones (versión mes) | D4: Instrucciones rápidas
A5: Resultado medible (qué existe al final) | B5: Plantilla lista + dashboard funcional + instrucciones | D5: 1) Escribe tu meta, fecha inicio y elige 4 o 5 semanas. 2) En 'Diario' define microacciones, hora, minutos y estado. 3) Revisa 'Semanal' y el 'Dashboard' se actualiza solo.
A6: Fecha inicio | B6: 46113
A7: Semanas (4 o 5) | B7: 5
A8: Fecha límite (auto) | B8: =IF($B$6="","",$B$6 + ($B$7*7) - 1) -> 46147
A9: Duración (días) | B9: =IF(OR($B$6="",$B$8=""),"",$B$8-$B$6+1) -> 35
A10: Notas

Sheet Diario
A1: Microacciones diarias
A2: Semana | B2: Día | C2: Fecha | D2: Microacción | E2: Tiempo (min) | F2: Estado | G2: % Avance | H2: Minutos_total
A3: 1 | B3: Lunes | C3: 46113 | D3: Definir estructura final del recurso | E3: 60 | F3: Terminado | G3: =IF(F3="Terminado",1,IF(F3="En revisión",0.8,IF(F3="En proceso",0.5,0))) -> 1 | H3: =IF($E3<>"",ROUND($E3*1440,0),"") -> 86400
A4: 1 | B4: Martes | C4: 46114 | D4: Diseñar formato Diario (31 días) y validaciones | E4: 90 | F4: Terminado | G4: =IF(F4="Terminado",1,IF(F4="En revisión",0.8,IF(F4="En proceso",0.5,0))) -> 1 | H4: =IF($E4<>"",ROUND($E4*1440,0),"") -> 129600
A5: 1 | B5: Miércoles | C5: 46115 | D5: Arreglar dashboard (gráfica + KPIs) | E5: 60 | F5: En revisión | G5: =IF(F5="Terminado",1,IF(F5="En revisión",0.8,IF(F5="En proceso",0.5,0))) -> 0.8 | H5: =IF($E5<>"",ROUND($E5*1440,0),"") -> 86400
A6: 1 | B6: Jueves | C6: 46116 | D6: Crear hoja de instrucciones (1 página) | E6: 30 | F6: En proceso | G6: =IF(F6="Terminado",1,IF(F6="En revisión",0.8,IF(F6="En proceso",0.5,0))) -> 0.5 | H6: =IF($E6<>"",ROUND($E6*1440,0),"") -> 43200
A7: 1 | B7: Viernes | C7: 46117 | D7: Pulir colores de marca (sin verde) | E7: 45 | F7: En proceso | G7: =IF(F7="Terminado",1,IF(F7="En revisión",0.8,IF(F7="En proceso",0.5,0))) -> 0.5 | H7: =IF($E7<>"",ROUND($E7*1440,0),"") -> 64800
A8: 1 | B8: Sábado | C8: 46118 | D8: Test rápido: edición en 5 minutos | E8: 30 | F8: En proceso | G8: =IF(F8="Terminado",1,IF(F8="En revisión",0.8,IF(F8="En proceso",0.5,0))) -> 0.5 | H8: =IF($E8<>"",ROUND($E8*1440,0),"") -> 43200
A9: 1 | B9: Domingo | C9: 46119 | D9: Ajustar rangos Semanal para 31 días | E9: 45 | F9: En revisión | G9: =IF(F9="Terminado",1,IF(F9="En revisión",0.8,IF(F9="En proceso",0.5,0))) -> 0.8 | H9: =IF($E9<>"",ROUND($E9*1440,0),"") -> 64800
A10: 2 | B10: Lunes | C10: 46120 | D10: Prellenado ejemplo para el usuario | E10: 30 | F10: En proceso | G10: =IF(F10="Terminado",1,IF(F10="En revisión",0.8,IF(F10="En proceso",0.5,0))) -> 0.5 | H10: =IF($E10<>"",ROUND($E10*1440,0),"") -> 43200
A11: 2 | B11: Martes | C11: 46121 | D11: Revisión final: errores y consistencia | E11: 60 | G11: =IF(F11="Terminado",1,IF(F11="En revisión",0.8,IF(F11="En proceso",0.5,0))) -> 0 | H11: =IF($E11<>"",ROUND($E11*1440,0),"") -> 86400
A12: 2 | B12: Miércoles | C12: 46122 | D12: Exportar y validar descarga | E12: 15 | G12: =IF(F12="Terminado",1,IF(F12="En revisión",0.8,IF(F12="En proceso",0.5,0))) -> 0 | H12: =IF($E12<>"",ROUND($E12*1440,0),"") -> 21600
A13: 2 | B13: Jueves | C13: 46123 | E13: 0 | G13: =IF(F13="Terminado",1,IF(F13="En revisión",0.8,IF(F13="En proceso",0.5,0))) -> 0 | H13: =IF($E13<>"",ROUND($E13*1440,0),"") -> 0
A14: 2 | B14: Viernes | C14: 46124 | E14: 0 | G14: =IF(F14="Terminado",1,IF(F14="En revisión",0.8,IF(F14="En proceso",0.5,0))) -> 0 | H14: =IF($E14<>"",ROUND($E14*1440,0),"") -> 0
A15: 2 | B15: Sábado | C15: 46125 | E15: 0 | G15: =IF(F15="Terminado",1,IF(F15="En revisión",0.8,IF(F15="En proceso",0.5,0))) -> 0 | H15: =IF($E15<>"",ROUND($E15*1440,0),"") -> 0
A16: 2 | B16: Domingo | C16: 46126 | E16: 0 | G16: =IF(F16="Terminado",1,IF(F16="En revisión",0.8,IF(F16="En proceso",0.5,0))) -> 0 | H16: =IF($E16<>"",ROUND($E16*1440,0),"") -> 0
A17: 3 | B17: Lunes | C17: 46127 | E17: 0 | G17: =IF(F17="Terminado",1,IF(F17="En revisión",0.8,IF(F17="En proceso",0.5,0))) -> 0 | H17: =IF($E17<>"",ROUND($E17*1440,0),"") -> 0
A18: 3 | B18: Martes | C18: 46128 | E18: 0 | G18: =IF(F18="Terminado",1,IF(F18="En revisión",0.8,IF(F18="En proceso",0.5,0))) -> 0 | H18: =IF($E18<>"",ROUND($E18*1440,0),"") -> 0
A19: 3 | B19: Miércoles | C19: 46129 | E19: 0 | G19: =IF(F19="Terminado",1,IF(F19="En revisión",0.8,IF(F19="En proceso",0.5,0))) -> 0 | H19: =IF($E19<>"",ROUND($E19*1440,0),"") -> 0
A20: 3 | B20: Jueves | C20: 46130 | E20: 0 | G20: =IF(F20="Terminado",1,IF(F20="En revisión",0.8,IF(F20="En proceso",0.5,0))) -> 0 | H20: =IF($E20<>"",ROUND($E20*1440,0),"") -> 0
A21: 3 | B21: Viernes | C21: 46131 | E21: 0 | G21: =IF(F21="Terminado",1,IF(F21="En revisión",0.8,IF(F21="En proceso",0.5,0))) -> 0 | H21: =IF($E21<>"",ROUND($E21*1440,0),"") -> 0
A22: 3 | B22: Sábado | C22: 46132 | E22: 0 | G22: =IF(F22="Terminado",1,IF(F22="En revisión",0.8,IF(F22="En proceso",0.5,0))) -> 0 | H22: =IF($E22<>"",ROUND($E22*1440,0),"") -> 0
A23: 3 | B23: Domingo | C23: 46133 | E23: 0 | G23: =IF(F23="Terminado",1,IF(F23="En revisión",0.8,IF(F23="En proceso",0.5,0))) -> 0 | H23: =IF($E23<>"",ROUND($E23*1440,0),"") -> 0
A24: 4 | B24: Lunes | C24: 46134 | E24: 0 | G24: =IF(F24="Terminado",1,IF(F24="En revisión",0.8,IF(F24="En proceso",0.5,0))) -> 0 | H24: =IF($E24<>"",ROUND($E24*1440,0),"") -> 0
... A33: 5 | B33: Miércoles | C33: 46143 | E33: 0 | G33: =IF(F33="Terminado",1,IF(F33="En revisión",0.8,IF(F33="En proceso",0.5,0))) -> 0 | H33: =IF($E33<>"",ROUND($E33*1440,0),"") -> 0
H34: =IF($E34<>"",ROUND($E34*1440,0),"")
H35: =IF($E35<>"",ROUND($E35*1440,0),"")
H36: =IF($E36<>"",ROUND($E36*1440,0),"")
H37: =IF($E37<>"",ROUND($E37*1440,0),"")
H38: =IF($E38<>"",ROUND($E38*1440,0),"")
H39: =IF($E39<>"",ROUND($E39*1440,0),"")
H40: =IF($E40<>"",ROUND($E40*1440,0),"")
H41: =IF($E41<>"",ROUND($E41*1440,0),"")
H42: =IF($E42<>"",ROUND($E42*1440,0),"")
H43: =IF($E43<>"",ROUND($E43*1440,0),"")
H44: =IF($E44<>"",ROUND($E44*1440,0),"")
H45: =IF($E45<>"",ROUND($E45*1440,0),"")
... H79: =IF($E79<>"",ROUND($E79*1440,0),"")
C80: =IF(OR(Meta!$B$6="",77+1>Meta!$B$7*7),"",Meta!$B$6+77) | G80: =IF(F80="Terminado",1,IF(F80="En revisión",0.8,IF(F80="En proceso",0.5,""))) | H80: =IF($E80<>"",ROUND($E80*1440,0),"")
C81: =IF(OR(Meta!$B$6="",78+1>Meta!$B$7*7),"",Meta!$B$6+78) | G81: =IF(F81="Terminado",1,IF(F81="En revisión",0.8,IF(F81="En proceso",0.5,""))) | H81: =IF($E81<>"",ROUND($E81*1440,0),"")
...

Sheet Semanal
A1: Control semanal
A2: Semana | B2: Inicio | C2: Fin | D2: Planeadas | E2: Terminadas | F2: En proceso | G2: En revisión | H2: % Avance | I2: Minutos | J2: Horas | K2: Eficiencia
A3: 1 | B3: =IF($A3="","",Meta!$B$6 + ($A3-1)*7) -> 46113 | C3: =IF($A3="","",$B3+6) -> 46119 | D3: =COUNTIFS(Diario!$A$3:$A$33,$A3,Diario!$D$3:$D$33,"<>") -> 7 | E3: =COUNTIFS(Diario!$A$3:$A$33,$A3,Diario!$F$3:$F$33,"Terminado") -> 2 | F3: =COUNTIFS(Diario!$A$3:$A$33,$A3,Diario!$F$3:$F$33,"En proceso") -> 3 | G3: =COUNTIFS(Diario!$A$3:$A$33,$A3,Diario!$F$3:$F$33,"En revisión") -> 2 | H3: =IF($D3=0,0,SUMIFS(Diario!$G$3:$G$33,Diario!$A$3:$A$33,$A3,Diario!$D$3:$D$33,"<>")/$D3) -> 0.72857143 | I3: =SUMIFS(Diario!$E$3:$E$33,Diario!$A$3:$A$33,$A3,Diario!$D$3:$D$33,"<>") -> 360 | J3: =IF(I3=0,0,I3/60) -> 6 | K3: =IF(J3=0,0,H3/J3) -> 0.12142857
A4: 2 | B4: =IF($A4="","",Meta!$B$6 + ($A4-1)*7) -> 46120 | C4: =IF($A4="","",$B4+6) -> 46126 | D4: =COUNTIFS(Diario!$A$3:$A$33,$A4,Diario!$D$3:$D$33,"<>") -> 3 | E4: =COUNTIFS(Diario!$A$3:$A$33,$A4,Diario!$F$3:$F$33,"Terminado") -> 0 | F4: =COUNTIFS(Diario!$A$3:$A$33,$A4,Diario!$F$3:$F$33,"En proceso") -> 1 | G4: =COUNTIFS(Diario!$A$3:$A$33,$A4,Diario!$F$3:$F$33,"En revisión") -> 0 | H4: =IF($D4=0,0,SUMIFS(Diario!$G$3:$G$33,Diario!$A$3:$A$33,$A4,Diario!$D$3:$D$33,"<>")/$D4) -> 0.16666667 | I4: =SUMIFS(Diario!$E$3:$E$33,Diario!$A$3:$A$33,$A4,Diario!$D$3:$D$33,"<>") -> 105 | J4: =IF(I4=0,0,I4/60) -> 1.75 | K4: =IF(J4=0,0,H4/J4) -> 0.095238095
A5: 3 | B5: =IF($A5="","",Meta!$B$6 + ($A5-1)*7) -> 46127 | C5: =IF($A5="","",$B5+6) -> 46133 | D5: =COUNTIFS(Diario!$A$3:$A$33,$A5,Diario!$D$3:$D$33,"<>") -> 0 | E5: =COUNTIFS(Diario!$A$3:$A$33,$A5,Diario!$F$3:$F$33,"Terminado") -> 0 | F5: =COUNTIFS(Diario!$A$3:$A$33,$A5,Diario!$F$3:$F$33,"En proceso") -> 0 | G5: =COUNTIFS(Diario!$A$3:$A$33,$A5,Diario!$F$3:$F$33,"En revisión") -> 0 | H5: =IF($D5=0,0,SUMIFS(Diario!$G$3:$G$33,Diario!$A$3:$A$33,$A5,Diario!$D$3:$D$33,"<>")/$D5) -> 0 | I5: =SUMIFS(Diario!$E$3:$E$33,Diario!$A$3:$A$33,$A5,Diario!$D$3:$D$33,"<>") -> 0 | J5: =IF(I5=0,0,I5/60) -> 0 | K5: =IF(J5=0,0,H5/J5) -> 0
A6: 4 | B6: =IF($A6="","",Meta!$B$6 + ($A6-1)*7) -> 46134 | C6: =IF($A6="","",$B6+6) -> 46140 | D6: =COUNTIFS(Diario!$A$3:$A$33,$A6,Diario!$D$3:$D$33,"<>") -> 0 | E6: =COUNTIFS(Diario!$A$3:$A$33,$A6,Diario!$F$3:$F$33,"Terminado") -> 0 | F6: =COUNTIFS(Diario!$A$3:$A$33,$A6,Diario!$F$3:$F$33,"En proceso") -> 0 | G6: =COUNTIFS(Diario!$A$3:$A$33,$A6,Diario!$F$3:$F$33,"En revisión") -> 0 | H6: =IF($D6=0,0,SUMIFS(Diario!$G$3:$G$33,Diario!$A$3:$A$33,$A6,Diario!$D$3:$D$33,"<>")/$D6) -> 0 | I6: =SUMIFS(Diario!$E$3:$E$33,Diario!$A$3:$A$33,$A6,Diario!$D$3:$D$33,"<>") -> 0 | J6: =IF(I6=0,0,I6/60) -> 0 | K6: =IF(J6=0,0,H6/J6) -> 0
A7: 5 | B7: =IF($A7="","",Meta!$B$6 + ($A7-1)*7) -> 46141 | C7: =IF($A7="","",$B7+6) -> 46147 | D7: =COUNTIFS(Diario!$A$3:$A$33,$A7,Diario!$D$3:$D$33,"<>") -> 0 | E7: =COUNTIFS(Diario!$A$3:$A$33,$A7,Diario!$F$3:$F$33,"Terminado") -> 0 | F7: =COUNTIFS(Diario!$A$3:$A$33,$A7,Diario!$F$3:$F$33,"En proceso") -> 0 | G7: =COUNTIFS(Diario!$A$3:$A$33,$A7,Diario!$F$3:$F$33,"En revisión") -> 0 | H7: =IF($D7=0,0,SUMIFS(Diario!$G$3:$G$33,Diario!$A$3:$A$33,$A7,Diario!$D$3:$D$33,"<>")/$D7) -> 0 | I7: =SUMIFS(Diario!$E$3:$E$33,Diario!$A$3:$A$33,$A7,Diario!$D$3:$D$33,"<>") -> 0 | J7: =IF(I7=0,0,I7/60) -> 0 | K7: =IF(J7=0,0,H7/J7) -> 0

Sheet Dashboard
A1: Dashboard
A3: Microacciones planeadas | B3: =COUNTIF(Diario!$D$3:$D$33,"<>") -> 10 | D3: Progreso visual
A4: Microacciones terminadas | B4: =COUNTIF(Diario!$F$3:$F$33,"Terminado") -> 2 | D4: =B7 -> 0.56
A5: En proceso | B5: =COUNTIF(Diario!$F$3:$F$33,"En proceso") -> 4 | E5: Estado | F5: Conteo
A6: En revisión | B6: =COUNTIF(Diario!$F$3:$F$33,"En revisión") -> 2 | D6: Estado | E6: En proceso | F6: =IFERROR(B5,0) -> 4
A7: % avance total (meta) | B7: =IF($B$3=0,0,SUMIFS(Diario!$G$3:$G$33,Diario!$D$3:$D$33,"<>")/$B$3) -> 0.56 | D7: En proceso | E7: En revisión | F7: =IFERROR(B6,0) -> 2
A8: Minutos totales | B8: =SUMIFS(Diario!$E$3:$E$33,Diario!$D$3:$D$33,"<>") -> 465 | D8: En revisión | E8: Terminado | F8: =IFERROR(B4,0) -> 2
D9: Terminado | E9: =B4 -> 2
A10: Tiempo total (horas) | B10: =SUM(Semanal!J3:J7) -> 7.75
A11: Eficiencia promedio | B11: =IFERROR(AVERAGE(Semanal!K3:K7),0) -> 0.043333333
A12: Lectura eficiencia | B12: =IF(B11>=0.6,"🟢 Alta",IF(B11>=0.35,"🟡 Media","🔴 Baja")) -> 🔴 Baja
A13: =Semanal!A4 -> 2 | B13: =Semanal!H4 -> 0.16666667
A14: =Semanal!A5 -> 3 | B14: =Semanal!H5 -> 0
A15: =Semanal!A6 -> 4 | B15: =Semanal!H6 -> 0
A16: =Semanal!A7 -> 5 | B16: =Semanal!H7 -> 0 | D16: Semana | E16: Avance
D17: 1 | E17: =IFERROR(Semanal!H3,0) -> 0.72857143
D18: 2 | E18: =IFERROR(Semanal!H4,0) -> 0.16666667
D19: 3 | E19: =IFERROR(Semanal!H5,0) -> 0
D20: 4 | E20: =IFERROR(Semanal!H6,0) -> 0
D21: 5 | E21: =IFERROR(Semanal!H7,0) -> 0

Sheet Listas
A1: Tiempo (duración)
A2: 0.0034722222
A3: 0.0069444444
A4: 0.010416667
A5: 0.013888889
A6: 0.017361111
A7: 0.020833333
A8: 0.027777778
A9: 0.03125
A10: 0.041666667
A11: 0.052083333
A12: 0.0625
A13: 0.083333333
... A16: 0.16666667
